BEGIN:VCALENDAR
PRODID:-//AT Content Types//AT Event//EN
VERSION:1.0
BEGIN:VEVENT
DTSTART:20200318T170000Z
DTEND:20200318T170000Z
DCREATED:20200227T091136Z
UID:ATEvent-1413db8a566d4c10a394a64ac58d0a7a
SEQUENCE:0
LAST-MODIFIED:20200311T134527Z
SUMMARY:***ATTENZIONE RINVIATO*** APERITIVI GIURIDICI
LOCATION:Quanto basta / Via Gramsci 4 / Macerata
PRIORITY:3
TRANSP:0
END:VEVENT
END:VCALENDAR
