BEGIN:VCALENDAR
PRODID:-//AT Content Types//AT Event//EN
VERSION:2.0
METHOD:PUBLISH
BEGIN:VEVENT
DTSTAMP:20260422T122210Z
CREATED:20220316T133832Z
UID:ATEvent-85294bce3ff94d1887f6c87fd8dd595c
LAST-MODIFIED:20220325T111052Z
SUMMARY:ATTUALITÀ E PROBLEMI DEL TRASFERIMENTO D’AZIENDA
DTSTART:20220325T140000Z
DTEND:20220325T173000Z
LOCATION:collegamento alla piattaforma Microsoft Teams
CLASS:PUBLIC
END:VEVENT
END:VCALENDAR
