BEGIN:VCALENDAR
PRODID:-//AT Content Types//AT Event//EN
VERSION:2.0
METHOD:PUBLISH
BEGIN:VEVENT
DTSTAMP:20260421T104742Z
CREATED:20231006T102625Z
UID:ATEvent-09952f4c70424fbdbcc1bf8a680c1f24
LAST-MODIFIED:20231006T103058Z
SUMMARY:Chi tutela i diritti fondamentali?
DTSTART:20231018T120000Z
DTEND:20231018T150000Z
DESCRIPTION:Lezione aperta del Prof. Roberto Bin a tutti gli interessa
 ti
LOCATION:Sala Mario Sbriccoli / Biblioteca didattica d'Ateneo CASB / Piazza Oberdan\, 4 / Macerata
CLASS:PUBLIC
END:VEVENT
END:VCALENDAR
