BEGIN:VCALENDAR
PRODID:-//AT Content Types//AT Event//EN
VERSION:1.0
BEGIN:VEVENT
DTSTART:20201002T073000Z
DTEND:20201002T103000Z
DCREATED:20200921T125347Z
UID:ATEvent-4bc3cbb7c5304f7082bbd069f8faba9f
SEQUENCE:0
LAST-MODIFIED:20200921T125655Z
SUMMARY:1970-2020 COME CAMBIA IL DIRITTO DEL LAVORO
DESCRIPTION:Omaggio alla Prof.ssa Giuliana Ciocca
LOCATION:Piattaforma Teams
PRIORITY:3
TRANSP:0
END:VEVENT
END:VCALENDAR
