BEGIN:VCALENDAR
PRODID:-//AT Content Types//AT Event//EN
VERSION:1.0
BEGIN:VEVENT
DTSTART:20181121T140000Z
DTEND:20181121T170000Z
DCREATED:20181108T124834Z
UID:ATEvent-b140700076ad477592d555aa7b0c7ccf
SEQUENCE:0
LAST-MODIFIED:20181109T103301Z
SUMMARY:CONTRATTI A TERMINE\, SOMMINISTRAZIONE DI LAVORO\, LICENZIAMENTI. Novità legislative e prassi applicative
DESCRIPTION:Convegno
PRIORITY:3
TRANSP:0
END:VEVENT
END:VCALENDAR
