BEGIN:VCALENDAR
PRODID:-//AT Content Types//AT Event//EN
VERSION:1.0
BEGIN:VEVENT
DTSTART:20191202T170000Z
DTEND:20191202T170000Z
DCREATED:20191126T075838Z
UID:ATEvent-84f9b5730ffc4721953cbcb5e9741eab
SEQUENCE:0
LAST-MODIFIED:20191126T080040Z
SUMMARY:CONTRO L’IDEOLOGIA DEL MERITO
LOCATION:Libreria "Feltrinelli" - Corso della Repubblica - Macerata
PRIORITY:3
TRANSP:0
END:VEVENT
END:VCALENDAR
