BEGIN:VCALENDAR
PRODID:-//AT Content Types//AT Event//EN
VERSION:2.0
METHOD:PUBLISH
BEGIN:VEVENT
DTSTAMP:20260422T122209Z
CREATED:20160314T112616Z
UID:ATEvent-f1b8bbe872654072b94c84df7eaf8ce1
LAST-MODIFIED:20160314T112654Z
SUMMARY:Corso avanzato di Diritto amministrativo\: tecniche di ricerca sulle banche dati giuridiche
DTSTART:20160408T090000Z
DTEND:20160408T110000Z
DESCRIPTION:Ciclo di seminari nell’ambito del corso di Diritto ammin
 istrativo I / M - Z
LOCATION:AULA VI / Dipartimento di Giurisprudenza / Piaggia dell'Università\, 2 / MACERATA
CLASS:PUBLIC
END:VEVENT
END:VCALENDAR
