BEGIN:VCALENDAR
PRODID:-//AT Content Types//AT Event//EN
VERSION:2.0
METHOD:PUBLISH
BEGIN:VEVENT
DTSTAMP:20260424T104656Z
CREATED:20211108T125727Z
UID:ATEvent-414a04bd1b6242c7ae362db8685e2a6a
LAST-MODIFIED:20211108T125747Z
SUMMARY:DAGLI APPALTI VERDI AGLI APPALTI CIRCOLARI?
DTSTART:20211118T150000Z
DTEND:20211117T230000Z
DESCRIPTION:Convegno
LOCATION:aula 5/Dip. di Giurisprudenza/Piaggia dell'Università 2/Macerata e collegamento Teams
CLASS:PUBLIC
END:VEVENT
END:VCALENDAR
