BEGIN:VCALENDAR
PRODID:-//AT Content Types//AT Event//EN
VERSION:2.0
METHOD:PUBLISH
BEGIN:VEVENT
DTSTAMP:20260421T104523Z
CREATED:20230216T111302Z
UID:ATEvent-ea2658e8b1e94ed69436f98e53e91112
LAST-MODIFIED:20230228T101855Z
SUMMARY:Dalla datificazione alla data governance. Le nozioni indispensabili
DTSTART:20230320T140000Z
DTEND:20230320T170000Z
DESCRIPTION:Seminario
LOCATION:Aula C / Dipartimento di Giurisprudenza / Piaggia dell'Università 2 / Macerata
CLASS:PUBLIC
END:VEVENT
END:VCALENDAR
