BEGIN:VCALENDAR
PRODID:-//AT Content Types//AT Event//EN
VERSION:2.0
METHOD:PUBLISH
BEGIN:VEVENT
DTSTAMP:20260420T095145Z
CREATED:20180725T075335Z
UID:ATEvent-fdbb85f118e94facb312452204d2b417
LAST-MODIFIED:20180725T081104Z
SUMMARY:Dalla laurea alla pratica professionale. I laureandi incontrano avvocati e consulenti del lavoro
DTSTART:20181002T093000Z
DTEND:20181002T163000Z
LOCATION:Aula 11 / Dipartimento di Giurisprudenza / Piaggia dell'Università 2 / Macerata
CLASS:PUBLIC
END:VEVENT
END:VCALENDAR
