BEGIN:VCALENDAR
PRODID:-//AT Content Types//AT Event//EN
VERSION:2.0
METHOD:PUBLISH
BEGIN:VEVENT
DTSTAMP:20260421T104351Z
CREATED:20230417T091508Z
UID:ATEvent-3f71270717c24cde8aa013736039972b
LAST-MODIFIED:20230417T091522Z
SUMMARY:Data-driven innovation e agricoltura\: le implicazioni giuridiche
DTSTART:20230418T080000Z
DTEND:20230418T110000Z
LOCATION:AULA A / Dipartimento di Giurisprudenza
CLASS:PUBLIC
END:VEVENT
END:VCALENDAR
