BEGIN:VCALENDAR
PRODID:-//AT Content Types//AT Event//EN
VERSION:1.0
BEGIN:VEVENT
DTSTART:20231108T163000Z
DTEND:20231108T180000Z
DCREATED:20231102T080306Z
UID:ATEvent-9933a801e34b4986854bb881cbfd3e0b
SEQUENCE:0
LAST-MODIFIED:20231102T080455Z
SUMMARY:DIGITAL DEVICES E VULNERABILITÀ DEL MINORE. QUALI SERVIZI PER ACCOMPAGNARE I GENITORI?
DESCRIPTION:Percorso di didattica integrata
LOCATION:Aula 4 / Dipartimento di Giurisprudenza / Piaggia dell'Università\, 2 / Macerata
PRIORITY:3
TRANSP:0
END:VEVENT
END:VCALENDAR
