BEGIN:VCALENDAR
PRODID:-//AT Content Types//AT Event//EN
VERSION:1.0
BEGIN:VEVENT
DTSTART:20221102T080000Z
DTEND:20221102T100000Z
DCREATED:20221107T092114Z
UID:ATEvent-ae726cc436924b4a94a06876f3d319c2
SEQUENCE:0
LAST-MODIFIED:20221108T075613Z
SUMMARY:Digitization and responsibility in Company Law
LOCATION:Aula 5 / Dipartimento di Giurisprudenza / Piaggia dell'Università 2 / Macerata
PRIORITY:3
TRANSP:0
END:VEVENT
END:VCALENDAR
