BEGIN:VCALENDAR
PRODID:-//AT Content Types//AT Event//EN
VERSION:1.0
BEGIN:VEVENT
DTSTART:20230517T073000Z
DTEND:20230517T160000Z
DCREATED:20230421T103729Z
UID:ATEvent-951e42523ce54d6199537ec09eeb3d19
SEQUENCE:0
LAST-MODIFIED:20230509T094721Z
SUMMARY:DIRITTI NEGATI E VIOLENZA CONTRO LE DONNE NELL'AREA MEDITERRANEA
DESCRIPTION:Giornata di studio nell'ambito del Festival dello Sviluppo
  Sostenibile 2023
PRIORITY:3
TRANSP:0
END:VEVENT
END:VCALENDAR
