BEGIN:VCALENDAR
PRODID:-//AT Content Types//AT Event//EN
VERSION:2.0
METHOD:PUBLISH
BEGIN:VEVENT
DTSTAMP:20260421T104538Z
CREATED:20230427T105306Z
UID:ATEvent-efd24da982df4ed6b8d8689b79fa3c42
LAST-MODIFIED:20230427T105321Z
SUMMARY:Food safety governance
DTSTART:20230503T070000Z
DTEND:20230503T120000Z
DESCRIPTION:LABORATORIO DI EU FOOD LAW
LOCATION:Aula B /Dipartimento di Giurisprudenza
CLASS:PUBLIC
END:VEVENT
END:VCALENDAR
