BEGIN:VCALENDAR
PRODID:-//AT Content Types//AT Event//EN
VERSION:1.0
BEGIN:VEVENT
DTSTART:20150211T150000Z
DTEND:20150211T150000Z
DCREATED:20150126T151805Z
UID:ATEvent-5840445a8810466c97ba51210684d4a5
SEQUENCE:0
LAST-MODIFIED:20150126T151959Z
SUMMARY:GEOGRAPHICAL INDICATIONS AND CONTEMPORARY LEGAL ISSUES IN KOREA
LOCATION:Ex Aula C / Palazzo Ugolini / Corso Cavour\, 2 / MACERATA
PRIORITY:3
TRANSP:0
END:VEVENT
END:VCALENDAR
