BEGIN:VCALENDAR
PRODID:-//AT Content Types//AT Event//EN
VERSION:2.0
METHOD:PUBLISH
BEGIN:VEVENT
DTSTAMP:20260423T104138Z
CREATED:20230411T073552Z
UID:ATEvent-602f65fc5af8423b9d4403bd82eaf2c7
LAST-MODIFIED:20230411T073713Z
SUMMARY:HATE SPEECH E CONFLITTI NELLA RETE
DTSTART:20230420T070000Z
DTEND:20230420T100000Z
DESCRIPTION:Didattica integrata
LOCATION:Aula C / Dipartimento di Giurisprudenza / Piaggia dell'Università 2 / Macerata
CLASS:PUBLIC
END:VEVENT
END:VCALENDAR
