BEGIN:VCALENDAR
PRODID:-//AT Content Types//AT Event//EN
VERSION:2.0
METHOD:PUBLISH
BEGIN:VEVENT
DTSTAMP:20260420T121116Z
CREATED:20211015T115504Z
UID:ATEvent-94de15162e7e492582f0c4a29ec2749a
LAST-MODIFIED:20211015T115708Z
SUMMARY:Hikkikomori. I ritirati sociali e ruolo dei servizi educativo - sociali
DTSTART:20211118T080000Z
DTEND:20211118T100000Z
DESCRIPTION:Ciclo di laboratori in PROBLEMATICHE ATTUALI DI DIRITTO CI
 VILE MINORILE E DEI SOGGETTI “DEBOLI”
LOCATION:Aula 9 / Dipartimento di Giurisprudenza / Piaggia dell'Università 2 / Macerata e collegamento tramite la piattaforma Microsoft Teams
CLASS:PUBLIC
END:VEVENT
END:VCALENDAR
