BEGIN:VCALENDAR
PRODID:-//AT Content Types//AT Event//EN
VERSION:1.0
BEGIN:VEVENT
DTSTART:20250402T090000Z
DTEND:20250402T110000Z
DCREATED:20250307T143711Z
UID:ATEvent-2fa420fa304f4a228cc5c8f3e796ab46
SEQUENCE:0
LAST-MODIFIED:20250326T171257Z
SUMMARY:JM AIcoIP | Navigating AI and Competition Law in the EU Digital Market\: Outlook and Challenges IV
DESCRIPTION:Seminari tematici nell'ambito del Modulo Jean Monnet AIcoI
 P
LOCATION:Classroom 1 | Department of Law Piaggia dell’Università\, 2 (MC)
PRIORITY:3
TRANSP:0
END:VEVENT
END:VCALENDAR
