BEGIN:VCALENDAR
PRODID:-//AT Content Types//AT Event//EN
VERSION:2.0
METHOD:PUBLISH
BEGIN:VEVENT
DTSTAMP:20260421T104801Z
CREATED:20230313T093711Z
UID:ATEvent-e9dd1efaf0f349e89cbdc468e7819710
LAST-MODIFIED:20230313T112538Z
SUMMARY:L’esecuzione intra-moenia tra offerta rieducativa e sicurezza\: punti di contatto e di frizione
DTSTART:20230329T130000Z
DTEND:20230329T150000Z
DESCRIPTION:Lezione in co-teaching
LOCATION:Aula C / Dipartimento di Giurisprudenza / Piaggia dell'Università 2 / Macerata
CLASS:PUBLIC
END:VEVENT
END:VCALENDAR
