BEGIN:VCALENDAR
PRODID:-//AT Content Types//AT Event//EN
VERSION:1.0
BEGIN:VEVENT
DTSTART:20230320T080000Z
DTEND:20230320T100000Z
DCREATED:20230223T130918Z
UID:ATEvent-488f1df8d25845b1bd77a5363f2e44a2
SEQUENCE:0
LAST-MODIFIED:20230223T131016Z
SUMMARY:L’esercizio del dubbio. Temi e problemi della giustizia penale
DESCRIPTION:Lezione di chiusura
LOCATION:Aula 4 / Dipartimento di Giurisprudenza / Piaggia dell'Università 2 / Macerata
PRIORITY:3
TRANSP:0
END:VEVENT
END:VCALENDAR
