BEGIN:VCALENDAR
PRODID:-//AT Content Types//AT Event//EN
VERSION:2.0
METHOD:PUBLISH
BEGIN:VEVENT
DTSTAMP:20260421T104837Z
CREATED:20240313T095104Z
UID:ATEvent-ffde15c6866849519c905a92fb2c8090
LAST-MODIFIED:20240313T132947Z
SUMMARY:La competizione globale sui semiconduttori\: tecnologia\, economia\, politica
DTSTART:20240209T163000Z
DTEND:20240209T183000Z
DESCRIPTION:Venerdì 9 febbraio ore 17.30-19.30\, China Center con il 
 Dr. Alessandro Aresu
CLASS:PUBLIC
END:VEVENT
END:VCALENDAR
