BEGIN:VCALENDAR
PRODID:-//AT Content Types//AT Event//EN
VERSION:2.0
METHOD:PUBLISH
BEGIN:VEVENT
DTSTAMP:20260423T104046Z
CREATED:20231121T115745Z
UID:ATEvent-35f6d579ffa540939beb55e8c0e07e86
LAST-MODIFIED:20231121T115847Z
SUMMARY:La digitalizzazione della giustizia civile e penale
DTSTART:20231127T080000Z
DTEND:20231127T103000Z
DESCRIPTION:Laboratorio
LOCATION:Aula 4 / Dipartimento di Giurisprudenza / Piaggia dell'Università\, 2 / Macerata
CLASS:PUBLIC
END:VEVENT
END:VCALENDAR
