BEGIN:VCALENDAR
PRODID:-//AT Content Types//AT Event//EN
VERSION:2.0
METHOD:PUBLISH
BEGIN:VEVENT
DTSTAMP:20260420T101511Z
CREATED:20180306T133914Z
UID:ATEvent-152d3bd1fce64793b124483badcfc5f0
LAST-MODIFIED:20180306T133929Z
SUMMARY:La morte digitale\: profili e problemi di diritto comparato
DTSTART:20180322T150000Z
DTEND:20180321T230000Z
DESCRIPTION:Seminario
LOCATION:AULA VIOLA 3 / POLO DIDATTICO PANTALEONI / VIA PESCHERIA VECCHIA / MACERATA
CLASS:PUBLIC
END:VEVENT
END:VCALENDAR
