BEGIN:VCALENDAR
PRODID:-//AT Content Types//AT Event//EN
VERSION:2.0
METHOD:PUBLISH
BEGIN:VEVENT
DTSTAMP:20260421T120005Z
CREATED:20230214T075646Z
UID:ATEvent-5532d79c2dee4fd7a83c2b9dbb59f695
LAST-MODIFIED:20230216T133629Z
SUMMARY:LABORATORIO DI MEDIAZIONE FAMILIARE
DTSTART:20230303T080000Z
DTEND:20230303T100000Z
LOCATION:Aula 6 / Dipartimento di Giurisprudenza / Piaggia dell'Università 2 / Macerata
CLASS:PUBLIC
END:VEVENT
END:VCALENDAR
