BEGIN:VCALENDAR
PRODID:-//AT Content Types//AT Event//EN
VERSION:2.0
METHOD:PUBLISH
BEGIN:VEVENT
DTSTAMP:20260420T101536Z
CREATED:20220308T112918Z
UID:ATEvent-c65a239a41814974b6d74c635566f8c1
LAST-MODIFIED:20220308T112947Z
SUMMARY:Law and Religion
DTSTART:20220314T133000Z
DTEND:20220314T140000Z
DESCRIPTION:Moot Court Competition / Seminario di preparazione alla co
 mpetizione internazionale
LOCATION:collegamento Teams
CLASS:PUBLIC
END:VEVENT
END:VCALENDAR
