BEGIN:VCALENDAR
PRODID:-//AT Content Types//AT Event//EN
VERSION:1.0
BEGIN:VEVENT
DTSTART:20241017T090000Z
DTEND:20241010T110000Z
DCREATED:20241010T073224Z
UID:ATEvent-93dd63ead74b48ef9cc20a89ff920fdb
SEQUENCE:0
LAST-MODIFIED:20241021T131607Z
SUMMARY:Le politiche pubbliche in materia di 𝙜𝙚𝙣𝙙𝙚𝙧 𝙚𝙦𝙪𝙖𝙡𝙞𝙩𝙮. I riflessi sull’economia\, sulla società e sul mondo del lavoro
DESCRIPTION:Macerata Humanities Festival
LOCATION:Aula 2 | Dipartimento di Giurisprudenza | Piaggia dell'Università\, 2 | Macerata
PRIORITY:3
TRANSP:0
END:VEVENT
END:VCALENDAR
