BEGIN:VCALENDAR
PRODID:-//AT Content Types//AT Event//EN
VERSION:1.0
BEGIN:VEVENT
DTSTART:20180503T080000Z
DTEND:20180503T110000Z
DCREATED:20180426T073447Z
UID:ATEvent-47d056b9d7c6424a86ed9a8e49ab543d
SEQUENCE:0
LAST-MODIFIED:20180426T073458Z
SUMMARY:LEGAL RESEARCH METHODOLOGY AND SCIENTIFIC WRITING
DESCRIPTION:Seminario
LOCATION:Creahub | Via Gramsci 29 | Macerata
PRIORITY:3
TRANSP:0
END:VEVENT
END:VCALENDAR
