BEGIN:VCALENDAR
PRODID:-//AT Content Types//AT Event//EN
VERSION:1.0
BEGIN:VEVENT
DTSTART:20170504T160000Z
DTEND:20170504T160000Z
DCREATED:20170503T133555Z
UID:ATEvent-a5ce2c087d5c407e8a933fa8c03d3372
SEQUENCE:0
LAST-MODIFIED:20170510T064948Z
SUMMARY:MACERATA RACCONTA / Libertà di migrare
DESCRIPTION:Perchè ci spostiamo da sempre ed è bene così
LOCATION:Biblioteca Mozzi Borgetti / Piazza Vittorio Veneto
PRIORITY:3
TRANSP:0
END:VEVENT
END:VCALENDAR
