BEGIN:VCALENDAR
PRODID:-//AT Content Types//AT Event//EN
VERSION:2.0
METHOD:PUBLISH
BEGIN:VEVENT
DTSTAMP:20260421T104446Z
CREATED:20240321T125955Z
UID:ATEvent-8dc4a498db1e4c00a3a5471373cdcc2c
LAST-MODIFIED:20241008T135558Z
SUMMARY:Le politiche europee per l'ambiente ed il finanziamento della transizione ecologica
DTSTART:20240418T123000Z
DTEND:20240419T133000Z
DESCRIPTION:Il Convegno del CDE si inserisce nell’ambito del progett
 o “Innovazione e vulnerabilità\: problemi giuridici e tutele” del
  Dipartimento di Giurisprudenza dell'Università di Macerata (finanzia
 mento MUR\, programma\: Dipartimenti di Eccellenza 2023-2027)” - sot
 toprogetto AVAS - Ambiente vulnerabile e aiuti di Stato.
LOCATION:18 aprile Polo Pantaleoni Aula Blu | 19 aprile Auditorium UNIMC
CATEGORIES:CentroDiDocumentazioneEuropeaMacerata,DipartimentodiEccellenza2023-2027
CLASS:PUBLIC
END:VEVENT
END:VCALENDAR
