BEGIN:VCALENDAR
PRODID:-//AT Content Types//AT Event//EN
VERSION:1.0
BEGIN:VEVENT
DTSTART:20230316T140000Z
DTEND:20230316T160000Z
DCREATED:20230215T125632Z
UID:ATEvent-7e3503c8d03f4c3aad46f40ec2ef0c1c
SEQUENCE:0
LAST-MODIFIED:20230306T103711Z
SUMMARY:Pratiche di mediazione penale
DESCRIPTION:Laboratorio
LOCATION:Aula 11 / Dipartimento di Giurisprudenza / Via Don Minzoni\, 5 / Macerata
PRIORITY:3
TRANSP:0
END:VEVENT
END:VCALENDAR
