BEGIN:VCALENDAR
PRODID:-//AT Content Types//AT Event//EN
VERSION:2.0
METHOD:PUBLISH
BEGIN:VEVENT
DTSTAMP:20260420T134805Z
CREATED:20171030T094230Z
UID:ATEvent-902da477f1b74fd4b30b3a5cf43cae67
LAST-MODIFIED:20171030T094326Z
SUMMARY:RECENTE EVOLUZIONE LEGISLATIVA IN MATERIA DI TUTELA CIVILE DEI MINORI
DTSTART:20171121T080000Z
DTEND:20171121T100000Z
DESCRIPTION:SEMINARIO INTEGRATIVO ALLA CATTEDRA DIRITTO DEI MINORI E D
 ELLA FAMIGLIA
LOCATION:AULA 5 / Dipartimento di Giurisprudenza / Piaggia dell’Università 2 / Macerata
CLASS:PUBLIC
END:VEVENT
END:VCALENDAR
