BEGIN:VCALENDAR
PRODID:-//AT Content Types//AT Event//EN
VERSION:2.0
METHOD:PUBLISH
BEGIN:VEVENT
DTSTAMP:20260420T101535Z
CREATED:20140325T131220Z
UID:ATEvent-2e9489148e18469e9bde570ed8ec9795
LAST-MODIFIED:20140401T125113Z
SUMMARY:SEMINARIO DI STUDIO. TEMI DI DIRITTO PENALE DELL’IMPRESA
DTSTART:20140411T130000Z
DTEND:20140410T220000Z
LOCATION:ANTICA BIBLIOTECA / PIAGGIA DELL'UNIVERSITÀ 2 / MACERATA
CLASS:PUBLIC
END:VEVENT
END:VCALENDAR
