BEGIN:VCALENDAR
PRODID:-//AT Content Types//AT Event//EN
VERSION:2.0
METHOD:PUBLISH
BEGIN:VEVENT
DTSTAMP:20260421T104725Z
CREATED:20230404T090001Z
UID:ATEvent-7ba69ad739814117a294033105aefe65
LAST-MODIFIED:20230404T090159Z
SUMMARY:SOCIAL SIGNS AND REAPPROPRIATION BY MINORITY COMMUNITIES. RESHAPING TRADEMARK RIGHTS THROUGH SEMIOTIC DEMOCRACY
DTSTART:20230414T090000Z
DTEND:20230414T140000Z
DESCRIPTION:Seminar
LOCATION:Room Viola 3 / Polo didattico Pantaleoni / Via Pescheria Vecchia 26 / Macerata
CLASS:PUBLIC
END:VEVENT
END:VCALENDAR
