BEGIN:VCALENDAR
PRODID:-//AT Content Types//AT Event//EN
VERSION:2.0
METHOD:PUBLISH
BEGIN:VEVENT
DTSTAMP:20260422T133820Z
CREATED:20251120T105059Z
UID:ATEvent-c7777b42f71e4c4bb72361483f0207a3
LAST-MODIFIED:20260302T135933Z
SUMMARY:Studenti con autismo ad alta funzionalità e sindrome di Asperger all’Università. Approcci didattici di qualità.
DTSTART:20260305T090000Z
DTEND:20260305T110000Z
DESCRIPTION:CORSO DI FORMAZIONE PER LA DIDATTICA INCLUSIVA | Modalità
  Blended
LOCATION:Corso di formazione per la didattica inclusiva - Aula Rossa 2 | Polo Diomede Pantaleoni\, Via della Pescheria Vecchia\, 26\, 62100 Macerata MC + ONLINE su TEAMS
CATEGORIES:didattica inclusiva,PRO3_24-26
CLASS:PUBLIC
END:VEVENT
END:VCALENDAR
