BEGIN:VCALENDAR
PRODID:-//AT Content Types//AT Event//EN
VERSION:1.0
BEGIN:VEVENT
DTSTART:20230324T140000Z
DTEND:20230324T180000Z
DCREATED:20230317T084703Z
UID:ATEvent-cb0473ac3db7495383915c9d7fd68d7e
SEQUENCE:0
LAST-MODIFIED:20230317T084806Z
SUMMARY:Sussidiarietà e ... sviluppo sociale - Presentazione del Rapporto sulla sussidiarietà 2021/2022
LOCATION:Collegamento attraverso la piattaforma TEAMS
PRIORITY:3
TRANSP:0
END:VEVENT
END:VCALENDAR
