BEGIN:VCALENDAR
PRODID:-//AT Content Types//AT Event//EN
VERSION:2.0
METHOD:PUBLISH
BEGIN:VEVENT
DTSTAMP:20260421T104654Z
CREATED:20230413T090723Z
UID:ATEvent-41dda9a117dd4abcb245a0069b8ac179
LAST-MODIFIED:20230413T090900Z
SUMMARY:Sustainability and the public sector\: ethical challenges for institutions and the society as a whole
DTSTART:20230414T070000Z
DTEND:20230414T090000Z
DESCRIPTION:Administrative Law Course chair prof. Chiara Feliziani a.y
 . 2022 - 2023
LOCATION:Aula 9 /Dipartimento di Giurisprudenza
CLASS:PUBLIC
END:VEVENT
END:VCALENDAR
