BEGIN:VCALENDAR
PRODID:-//AT Content Types//AT Event//EN
VERSION:2.0
METHOD:PUBLISH
BEGIN:VEVENT
DTSTAMP:20260422T084801Z
CREATED:20211125T120502Z
UID:ATEvent-3faf383bd1ee45da9a66bd7ef0759048
LAST-MODIFIED:20211125T120518Z
SUMMARY:Sviluppo sostenibile e beni comuni\: la prospettiva di Ghino Valenti
DTSTART:20211201T160000Z
DTEND:20211130T230000Z
LOCATION:Aula 9/Dipartimento di Giurisprudenza/Piaggia dell'Università 2/Macerata e collegamento Teams
CLASS:PUBLIC
END:VEVENT
END:VCALENDAR
