BEGIN:VCALENDAR
PRODID:-//AT Content Types//AT Event//EN
VERSION:1.0
BEGIN:VEVENT
DTSTART:20231120T073000Z
DTEND:20231120T123000Z
DCREATED:20231003T073235Z
UID:ATEvent-f61e3c614a3f45ecbadc2410329d4663
SEQUENCE:0
LAST-MODIFIED:20231102T082601Z
SUMMARY:UNA NORMALE SOLITUDINE. PERCORSI E STRUMENTI DELLE COMUNITÀ PER MINORI
DESCRIPTION:Seminario interdisciplinare
LOCATION:Aula 6 / Dipartimento di Giurisprudenza / Piaggia dell'Università\, 2 / Macerata
PRIORITY:3
TRANSP:0
END:VEVENT
END:VCALENDAR
