BEGIN:VCALENDAR
PRODID:-//AT Content Types//AT Event//EN
VERSION:1.0
BEGIN:VEVENT
DTSTART:20241211T143000Z
DTEND:20241211T180000Z
DCREATED:20241204T085247Z
UID:ATEvent-77b99908bf6c4c33ab57a4cce83c9704
SEQUENCE:0
LAST-MODIFIED:20241204T085600Z
SUMMARY:Vecchie e nuove vulnerabilità dei minori\: le sfide del progresso tecnologico
DESCRIPTION:Seminari interdisciplinari
LOCATION:SALA SEMINARI Biblioteca "Mario Sbriccoli" / Via Garibaldi n. 20 / Macerata
PRIORITY:3
TRANSP:0
END:VEVENT
END:VCALENDAR
