BEGIN:VCALENDAR
PRODID:-//AT Content Types//AT Event//EN
VERSION:2.0
METHOD:PUBLISH
BEGIN:VEVENT
DTSTAMP:20260423T104110Z
CREATED:20241126T155719Z
UID:ATEvent-dc5c9af38f50474995fb60848cdfa5a2
LAST-MODIFIED:20241126T164420Z
SUMMARY:Vulnerabilità e tutela giuridica dei minori tra storia e contemporaneità
DTSTART:20241126T093000Z
DTEND:20241126T120000Z
DESCRIPTION:Best Interest Of Child - BeIntO[u]Ch | Seminario intermedi
 o nell’ambito del Progetto del Dipartimento di Eccellenza\n“Innova
 zione e vulnerabilità\: problemi giuridici e tutele”\nfinanziamento
  MUR\, programma\: Dipartimenti di Eccellenza 2023-2027
LOCATION:Teams vedi Locandina nel box
CATEGORIES:BeIntO[u]Ch,DipartimentodiEccellenza2023-2027
CLASS:PUBLIC
END:VEVENT
END:VCALENDAR
