BEGIN:VCALENDAR
PRODID:-//AT Content Types//AT Event//EN
VERSION:1.0
BEGIN:VEVENT
DTSTART:20181019T130000Z
DTEND:20181019T150000Z
DCREATED:20181011T084313Z
UID:ATEvent-dc675fb962b7433c8e4fe5209513261c
SEQUENCE:0
LAST-MODIFIED:20181011T084350Z
SUMMARY:Winter Program on Chinese Economy and Innovation
DESCRIPTION:Iniziativa realizzata nell’ambito del progetto di Dipart
 imento di Eccellenza
LOCATION:Aula 1 / Piaggia dell'Università 2 / Macerata
PRIORITY:3
TRANSP:0
END:VEVENT
END:VCALENDAR
